BEGIN:VCALENDAR
VERSION:2.0
PRODID:-//RebuttalPR - ECPv6.15.20//NONSGML v1.0//EN
CALSCALE:GREGORIAN
METHOD:PUBLISH
X-ORIGINAL-URL:https://www.rebuttalpr.com
X-WR-CALDESC:Events for RebuttalPR
REFRESH-INTERVAL;VALUE=DURATION:PT1H
X-Robots-Tag:noindex
X-PUBLISHED-TTL:PT1H
BEGIN:VTIMEZONE
TZID:UTC
BEGIN:STANDARD
TZOFFSETFROM:+0000
TZOFFSETTO:+0000
TZNAME:UTC
DTSTART:20250101T000000
END:STANDARD
END:VTIMEZONE
BEGIN:VEVENT
DTSTART;VALUE=DATE:20260304
DTEND;VALUE=DATE:20260308
DTSTAMP:20260421T101207
CREATED:20260223T172447Z
LAST-MODIFIED:20260223T172447Z
UID:10000013-1772582400-1772927999@www.rebuttalpr.com
SUMMARY:2026 WTLA Winter Ski Conference
DESCRIPTION:
URL:https://www.rebuttalpr.com/events/2026-wtla-winter-ski-conference/
LOCATION:Hotel Alpenrock\, Breckenridge\, CO\, United States
END:VEVENT
END:VCALENDAR