BEGIN:VCALENDAR
VERSION:2.0
PRODID:-//RebuttalPR - ECPv6.15.20//NONSGML v1.0//EN
CALSCALE:GREGORIAN
METHOD:PUBLISH
X-ORIGINAL-URL:https://www.rebuttalpr.com
X-WR-CALDESC:Events for RebuttalPR
REFRESH-INTERVAL;VALUE=DURATION:PT1H
X-Robots-Tag:noindex
X-PUBLISHED-TTL:PT1H
BEGIN:VTIMEZONE
TZID:UTC
BEGIN:STANDARD
TZOFFSETFROM:+0000
TZOFFSETTO:+0000
TZNAME:UTC
DTSTART:20240101T000000
END:STANDARD
END:VTIMEZONE
BEGIN:VEVENT
DTSTART;VALUE=DATE:20260220
DTEND;VALUE=DATE:20260225
DTSTAMP:20260420T173043
CREATED:20260121T143914Z
LAST-MODIFIED:20260121T143914Z
UID:10000012-1771545600-1771977599@www.rebuttalpr.com
SUMMARY:AAJ 2026 Winter Convention
DESCRIPTION:
URL:https://www.rebuttalpr.com/events/aaj-2026-winter-convention/
LOCATION:Hotel Del Coronado\, San Diego\, CA\, United States
END:VEVENT
BEGIN:VEVENT
DTSTART;VALUE=DATE:20250718
DTEND;VALUE=DATE:20250723
DTSTAMP:20260420T173043
CREATED:20250627T190149Z
LAST-MODIFIED:20250702T133720Z
UID:10000002-1752796800-1753228799@www.rebuttalpr.com
SUMMARY:American Association for Justice Annual Convention
DESCRIPTION:The AAJ 2025 Annual Convention is where accomplished trial lawyers come together to discuss the latest developments in trial advocacy and specialized topics.
URL:https://www.rebuttalpr.com/events/american-association-for-justice-annual-convention/
LOCATION:Moscone Convention Center\, San Francisco Marriott Marquis\, San Francisco\, CA\, United States
END:VEVENT
END:VCALENDAR