BEGIN:VCALENDAR
VERSION:2.0
PRODID:-//RebuttalPR - ECPv6.15.20//NONSGML v1.0//EN
CALSCALE:GREGORIAN
METHOD:PUBLISH
X-ORIGINAL-URL:https://www.rebuttalpr.com
X-WR-CALDESC:Events for RebuttalPR
REFRESH-INTERVAL;VALUE=DURATION:PT1H
X-Robots-Tag:noindex
X-PUBLISHED-TTL:PT1H
BEGIN:VTIMEZONE
TZID:UTC
BEGIN:STANDARD
TZOFFSETFROM:+0000
TZOFFSETTO:+0000
TZNAME:UTC
DTSTART:20240101T000000
END:STANDARD
END:VTIMEZONE
BEGIN:VEVENT
DTSTART;VALUE=DATE:20251026
DTEND;VALUE=DATE:20251030
DTSTAMP:20260421T201005
CREATED:20250630T140727Z
LAST-MODIFIED:20250630T140727Z
UID:10000005-1761436800-1761782399@www.rebuttalpr.com
SUMMARY:Women en Mass
DESCRIPTION:Founded and hosted by Aimee Wagstaff of the Wagstaff Law Firm\, Women En Mass brings together the best and brightest female mass tort attorneys to discuss issues that affect women\, from the boardroom to the courtroom.
URL:https://www.rebuttalpr.com/events/women-en-mass/
LOCATION:The St. Regis Aspen Resort\, 15 East Dean Street\, Aspen\, CO\, 81611\, United States
END:VEVENT
BEGIN:VEVENT
DTSTART;TZID=UTC:20251105T203000
DTEND;TZID=UTC:20251105T213000
DTSTAMP:20260421T201005
CREATED:20250630T141500Z
LAST-MODIFIED:20250903T175849Z
UID:10000008-1762374600-1762378200@www.rebuttalpr.com
SUMMARY:Committee to Support Antitrust Laws (COSAL) annual dinner
DESCRIPTION:COSAL members will gather in Washington DC for cocktails\, dinner\, and celebratory speeches to honor COSAL’s 39th year.
URL:https://www.rebuttalpr.com/events/committee-to-support-antitrust-laws-cosal-annual-dinner/
LOCATION:DC
END:VEVENT
BEGIN:VEVENT
DTSTART;VALUE=DATE:20251110
DTEND;VALUE=DATE:20251114
DTSTAMP:20260421T201005
CREATED:20250630T141716Z
LAST-MODIFIED:20250630T141716Z
UID:10000010-1762732800-1763078399@www.rebuttalpr.com
SUMMARY:Trial Lawyers of Mass Torts
DESCRIPTION:Their mission is to foster collaboration and education among top-tier Judiciary\, Plaintiffs\, and Defense Bar professionals. This conference is tailored to tackle contemporary issues in complex litigation\, focusing on class actions and mass torts.
URL:https://www.rebuttalpr.com/events/trial-lawyers-of-mass-torts/
LOCATION:DC
END:VEVENT
BEGIN:VEVENT
DTSTART;VALUE=DATE:20251113
DTEND;VALUE=DATE:20251117
DTSTAMP:20260421T201005
CREATED:20250630T141611Z
LAST-MODIFIED:20250630T141611Z
UID:10000009-1762992000-1763337599@www.rebuttalpr.com
SUMMARY:Consumer Attorneys of California Annual Convention
DESCRIPTION:Consumer Attorneys of California’s Annual Convention is a unique opportunity to meet\, learn from and network with the leading attorneys and legal professionals from across the state of California.
URL:https://www.rebuttalpr.com/events/consumer-attorneys-of-california-annual-convention/
LOCATION:DC
END:VEVENT
BEGIN:VEVENT
DTSTART;VALUE=DATE:20260204
DTEND;VALUE=DATE:20260209
DTSTAMP:20260421T201006
CREATED:20251219T142248Z
LAST-MODIFIED:20251219T142248Z
UID:10000011-1770163200-1770595199@www.rebuttalpr.com
SUMMARY:2026 STLA Annual Mardi Gras Conference
DESCRIPTION:
URL:https://www.rebuttalpr.com/events/2026-stla-annual-mardi-gras-conference/
LOCATION:The Ritz-Carlton\, New Orleans\, New Orleans\, LA\, United States
END:VEVENT
BEGIN:VEVENT
DTSTART;VALUE=DATE:20260220
DTEND;VALUE=DATE:20260225
DTSTAMP:20260421T201006
CREATED:20260121T143914Z
LAST-MODIFIED:20260121T143914Z
UID:10000012-1771545600-1771977599@www.rebuttalpr.com
SUMMARY:AAJ 2026 Winter Convention
DESCRIPTION:
URL:https://www.rebuttalpr.com/events/aaj-2026-winter-convention/
LOCATION:Hotel Del Coronado\, San Diego\, CA\, United States
END:VEVENT
BEGIN:VEVENT
DTSTART;VALUE=DATE:20260304
DTEND;VALUE=DATE:20260308
DTSTAMP:20260421T201006
CREATED:20260223T172447Z
LAST-MODIFIED:20260223T172447Z
UID:10000013-1772582400-1772927999@www.rebuttalpr.com
SUMMARY:2026 WTLA Winter Ski Conference
DESCRIPTION:
URL:https://www.rebuttalpr.com/events/2026-wtla-winter-ski-conference/
LOCATION:Hotel Alpenrock\, Breckenridge\, CO\, United States
END:VEVENT
BEGIN:VEVENT
DTSTART;VALUE=DATE:20260326
DTEND;VALUE=DATE:20260328
DTSTAMP:20260421T201006
CREATED:20260223T172927Z
LAST-MODIFIED:20260223T172927Z
UID:10000014-1774483200-1774655999@www.rebuttalpr.com
SUMMARY:2026 NCVBA Mid-Year Conference
DESCRIPTION:
URL:https://www.rebuttalpr.com/events/2026-ncvba-mid-year-conference/
LOCATION:The Whittemore House\, Washington\, DC\, United States
END:VEVENT
END:VCALENDAR