BEGIN:VCALENDAR
VERSION:2.0
PRODID:-//RebuttalPR - ECPv6.15.20//NONSGML v1.0//EN
CALSCALE:GREGORIAN
METHOD:PUBLISH
X-ORIGINAL-URL:https://www.rebuttalpr.com
X-WR-CALDESC:Events for RebuttalPR
REFRESH-INTERVAL;VALUE=DURATION:PT1H
X-Robots-Tag:noindex
X-PUBLISHED-TTL:PT1H
BEGIN:VTIMEZONE
TZID:UTC
BEGIN:STANDARD
TZOFFSETFROM:+0000
TZOFFSETTO:+0000
TZNAME:UTC
DTSTART:20240101T000000
END:STANDARD
END:VTIMEZONE
BEGIN:VEVENT
DTSTART;VALUE=DATE:20251021
DTEND;VALUE=DATE:20251024
DTSTAMP:20260421T213010
CREATED:20250630T141000Z
LAST-MODIFIED:20250630T141000Z
UID:10000006-1761004800-1761263999@www.rebuttalpr.com
SUMMARY:Mass Torts Made Perfect
DESCRIPTION:Mass Torts Made Perfect is more than just a conference – it’s a place for plaintiff attorneys and their paralegals to connect\, network\, and learn the latest insights and strategies on the top mass tort and class action lawsuits in the country.
URL:https://www.rebuttalpr.com/events/mass-torts-made-perfect/
LOCATION:DC
END:VEVENT
END:VCALENDAR