BEGIN:VCALENDAR
VERSION:2.0
PRODID:-//RebuttalPR - ECPv6.15.20//NONSGML v1.0//EN
CALSCALE:GREGORIAN
METHOD:PUBLISH
X-WR-CALNAME:RebuttalPR
X-ORIGINAL-URL:https://www.rebuttalpr.com
X-WR-CALDESC:Events for RebuttalPR
REFRESH-INTERVAL;VALUE=DURATION:PT1H
X-Robots-Tag:noindex
X-PUBLISHED-TTL:PT1H
BEGIN:VTIMEZONE
TZID:UTC
BEGIN:STANDARD
TZOFFSETFROM:+0000
TZOFFSETTO:+0000
TZNAME:UTC
DTSTART:20240101T000000
END:STANDARD
END:VTIMEZONE
BEGIN:VEVENT
DTSTART;VALUE=DATE:20251009
DTEND;VALUE=DATE:20251013
DTSTAMP:20260421T212759
CREATED:20250630T141224Z
LAST-MODIFIED:20250630T141224Z
UID:10000007-1759968000-1760313599@www.rebuttalpr.com
SUMMARY:Injury Board Summit 2025
DESCRIPTION:An upscale but low-key connect centered on member-to-member education\, networking and social outings.
URL:https://www.rebuttalpr.com/events/injury-board-summit-2025/
LOCATION:Hotel Bardo Savannah\, 700 Drayton Street\, Savannah\, GA\, 31401\, United States
END:VEVENT
END:VCALENDAR